BEGIN:VCALENDAR
VERSION:2.0
PRODID:-//Joga - ECPv4.9.3.1//NONSGML v1.0//EN
CALSCALE:GREGORIAN
METHOD:PUBLISH
X-WR-CALNAME:Joga
X-ORIGINAL-URL:https://www.starzyna.pl
X-WR-CALDESC:Events for Joga
BEGIN:VEVENT
DTSTART;TZID=UTC+0:20210527T170000
DTEND;TZID=UTC+0:20210530T130000
DTSTAMP:20260421T071451
CREATED:20210310T174729Z
LAST-MODIFIED:20210414T130632Z
UID:1114-1622134800-1622379600@www.starzyna.pl
SUMMARY:Wiosenny weekend z jogą i żubrami. Starzyna 27-30.05.2021
DESCRIPTION:Wiosenny weekend z jogą i żubrami\n27-30 maja (od czwartku do niedzieli). \nZapraszam na niezwykły wyjazd w do Puszczy Białowieskiej! Zanurzymy się w ciszy\, powędrujemy leśnymi ścieżkami\, obejrzymy zabytkowe cerkwie. Po tym wszystkim nasza praktyka jogi może zyskać zupełnie inny wymiar… \nZapraszamy osoby początkujące i praktykujące. Joga kręgosłupa dla osób w każdym wieku i w każdej kondycji! \nOrganizator: Hanna Milanowicz\, Joga milano \nAbsolwentka studiów podyplomowych Joga i relaksacja (AWF w Warszawie)\, instruktor rekreacji ruchowej ze specjalnością hatha joga\, artysta grafik\, właściciel studio Joga milano. Prowadzi zajęcia prozdrowotnej jogi kręgosłupa skupionej na harmonijnym rozwoju ciała i umysłu\, niezależnie od wieku i ograniczeń\, które posiadamy. Jest żywym przykładem\, jak bardzo praktyka jogi może poprawić stan zdrowia i polepszyć jakość naszego życia. Wciąż doskonali swoje umiejętności biorąc udział w licznych warsztatach\, głównie jogi terapeutycznej. \nHarmonogram: \nczwartek 18-19.30 joga\, 19.45 obiadokolacja\, 21.00 – integracja \npiątek i sobota 7-9 joga\, 9.15 śniadanie\, 10-17 wycieczka\, spacer\, 17.00-18.30 joga\, 19.00 obiadokolacja\, 20 – medytacja\, integracja\, ognisko \nniedziela 7-9 joga\, 9.15 śniadanie \nKoszt 840 zł. Cena zawiera: \n3 noclegi w komfortowych pokojach z łazienkami\n3 wegeteriańskie posiłki dziennie (śniadanie\, lunch\, obiadokolacja)\nzajęcia jogi kręgosłupa dwa razy dziennie na przestronnej sali z drabinkami\nmożliwość skorzystania z rowerów\, kijów nordic walking\, profesjonalnego kortu tenisowego\, sauny\, łóżka do masażu\nZa dodatkową opłatą możliwość wycieczki z przewodnikiem. Dojazd własny. Kto nie ma jak dojechać lub ma wolne miejsce w samochodzie\, proszę o zgłoszenie. Staramy się\, żeby ślad węglowy był jak najmniejszy. \nZapisy i informacje: \nHanka 608 120 754\, hanna@jogamilano.pl \nIlość miejsc ograniczona! Żeby zarezerwować miejsce\, proszę o kontakt telefoniczny lub mailowy oraz o wpłatę zaliczki 240 zł: Studio Milano\, konto nr 98 1140 2004 0000 3202 7712 1972. Jako tytuł przelewu proszę podać „Warsztat jogi Starzyna”. Reszta kwoty płatna gotówką na miejscu.\nJest też kilka miejsc dla osób towarzyszących. Koszt 600 zł\, zaliczka 150 zł. \nZaliczka jest bezzwrotna\, chyba\, że znajdzie się ktoś chętny na to miejsce. Jeśli obiekt zostanie zamknięty z powodu pandemii\, zaliczka zostanie zwrócona lub zmienimy termin wyjazdu. \nWyjazd odbędzie się\, jeśli zgłosi się 9 osób chętnych do praktyki jogi. \nZapraszam serdecznie! \n
URL:https://www.starzyna.pl/wydarzenie/wiosenny-weekend-z-joga-i-zubrami-starzyna-22-25-04-2021/
LOCATION:Starzyna\, Starzyna 30\, Starzyna\, Polska
CATEGORIES:Warsztaty Starzyna
ATTACH;FMTTYPE=image/jpeg:https://www.starzyna.pl/wp-content/uploads/2019/05/osrodek-starzyna-w-puszczy-bialowieskiej-01-001.jpg
END:VEVENT
END:VCALENDAR